BEGIN:VCALENDAR
VERSION:2.0
PRODID:-//ChamberMaster//Event Calendar 2.0//EN
METHOD:PUBLISH
X-PUBLISHED-TTL:P3D
REFRESH-INTERVAL:P3D
CALSCALE:GREGORIAN
BEGIN:VEVENT
DTSTART:20260423T140000Z
DTEND:20260423T200000Z
X-MICROSOFT-CDO-ALLDAYEVENT:FALSE
SUMMARY:Rummage Sale
DESCRIPTION:Toys - Games - Dishes - Household Furniture - Household Sheets - Home Decor - much more! Everything is donation based unless priced otherwise. \n\n\n\nDonations are welcome. Drop off at the Front Office between March 30th to April 13th. 9am-3pm Please NO Clothing. \n\n\n\nAll proceeds go back to the residents.
X-ALT-DESC;FMTTYPE=text/html:Toys - Games - Dishes - Household Furniture - Household Sheets - Home Decor - much more! Everything is donation based unless priced otherwise.&nbsp\;<br />\n<br />\nDonations are welcome. Drop off at the Front Office between March 30th to April 13th. 9am-3pm Please NO Clothing.&nbsp\;<br />\n<br />\nAll proceeds go back to the residents.&nbsp\;&nbsp\;&nbsp\;&nbsp\;&nbsp\;
LOCATION:Chapters Living of Washington 1150 Newcastle Rd. Washington\, IL 61571
UID:e.1312.9349
SEQUENCE:3
DTSTAMP:20260419T151206Z
URL:http://washingtoncoc.chambermaster.com/events/details/rummage-sale-9349
END:VEVENT

END:VCALENDAR
