BEGIN:VCALENDAR
VERSION:2.0
PRODID:-//ChamberMaster//Event Calendar 2.0//EN
METHOD:PUBLISH
X-PUBLISHED-TTL:P3D
REFRESH-INTERVAL:P3D
CALSCALE:GREGORIAN
BEGIN:VEVENT
DTSTART:20150826T140000Z
DTEND:20150826T170000Z
X-MICROSOFT-CDO-ALLDAYEVENT:FALSE
SUMMARY:Health Resources Fair
DESCRIPTION:Presented by Goodwill Veterans' Services. Discover the health resources available in your community: Methodist WellMobile\; HIV\, STD & Hepatitis C Testing\; Medicare\; Medicaid\; Food Stamps\; Mental Health & Substance Abuse Resources\; Heartland Community Health Clinic\; Department of Veterans Affairs\; and Vet Center Mobile Unit for Veterans.
X-ALT-DESC;FMTTYPE=text/html:Presented by Goodwill Veterans&#39\; Services. Discover the health resources available in your community: Methodist WellMobile\; HIV\, STD &amp\; Hepatitis C Testing\; Medicare\; Medicaid\; Food Stamps\; Mental Health &amp\; Substance Abuse Resources\; Heartland Community Health Clinic\; Department of Veterans Affairs\; and Vet Center Mobile Unit for Veterans.
LOCATION:Goodwill Commons 2319 E. War Memorial Dr. Peoria\, IL 61614
UID:e.1312.1127
SEQUENCE:3
DTSTAMP:20260422T074646Z
URL:http://washingtoncoc.chambermaster.com/events/details/health-resources-fair-08-26-2015-1127
END:VEVENT

END:VCALENDAR
