BEGIN:VCALENDAR
VERSION:2.0
PRODID:-//ChamberMaster//Event Calendar 2.0//EN
METHOD:PUBLISH
X-PUBLISHED-TTL:P3D
REFRESH-INTERVAL:P3D
CALSCALE:GREGORIAN
BEGIN:VEVENT
DTSTART:20150923T233000Z
DTEND:20150924T010000Z
X-MICROSOFT-CDO-ALLDAYEVENT:FALSE
SUMMARY:Financial Peace University
DESCRIPTION:Want to get out of debt? Want to understand how to plan for retirement? Want to have an actual conversation about money with your spouse instead of an argument? Grace Bible Church is proud to host Dave Ramsey's Financial Peace University on Wednesday nights at 6:30 this fall. Classes start September 2\; and childcare is provided through our Awana program.
X-ALT-DESC;FMTTYPE=text/html:Want to get out of debt? Want to understand how to plan for retirement? Want to have an actual conversation about money with your spouse instead of an argument? Grace Bible Church is proud to host Dave Ramsey&#39\;s Financial Peace University on Wednesday nights at 6:30 this fall. Classes start September 2\; and childcare is provided through our Awana program.
LOCATION:Grace Bible Church . 1109 S. Main Street . Washington\, IL
UID:e.1312.2559
SEQUENCE:3
DTSTAMP:20260423T234727Z
URL:http://washingtoncoc.chambermaster.com/events/details/financial-peace-university-09-23-2015-2559
END:VEVENT

END:VCALENDAR
