BEGIN:VCALENDAR
VERSION:2.0
PRODID:-//ChamberMaster//Event Calendar 2.0//EN
METHOD:PUBLISH
X-PUBLISHED-TTL:P3D
REFRESH-INTERVAL:P3D
CALSCALE:GREGORIAN
BEGIN:VEVENT
DTSTART:20141205T000000Z
DTEND:20141205T020000Z
X-MICROSOFT-CDO-ALLDAYEVENT:FALSE
SUMMARY:Candlelight Stroll
DESCRIPTION:Annual Candlelight Stroll hosted by the Specialty Shops on the Square - Carriage Rides 6 to 8pm . Courier Christmas Sing & City's Tree Lighting 6:30 to 7:15pm . Visits with Santa in Denhart's community room 6 to 8pm . Salvation Army Band to play 6 to 7:15pm (depending on weather) . Stores open til 8pm
X-ALT-DESC;FMTTYPE=text/html:Annual Candlelight Stroll hosted by the Specialty Shops on the Square - Carriage Rides 6 to 8pm . Courier Christmas Sing &amp\; City&#39\;s Tree Lighting 6:30 to 7:15pm . Visits with Santa in Denhart&#39\;s community room 6 to 8pm . Salvation Army Band to play 6 to 7:15pm (depending on weather) . Stores open til 8pm
LOCATION:Washington Square Washington\, IL
UID:e.1312.1038
SEQUENCE:3
DTSTAMP:20260420T203053Z
URL:http://washingtoncoc.chambermaster.com/events/details/candlelight-stroll-12-04-2014-1038
END:VEVENT

END:VCALENDAR
